BEGIN:VCALENDAR
VERSION:2.0
PRODID:-//Henning Christiansen Arkiv - ECPv6.8.3//NONSGML v1.0//EN
CALSCALE:GREGORIAN
METHOD:PUBLISH
X-ORIGINAL-URL:https://henningchristiansenarkiv.dk
X-WR-CALDESC:Begivenheder for Henning Christiansen Arkiv
REFRESH-INTERVAL;VALUE=DURATION:PT1H
X-Robots-Tag:noindex
X-PUBLISHED-TTL:PT1H
BEGIN:VTIMEZONE
TZID:Europe/Copenhagen
BEGIN:DAYLIGHT
TZOFFSETFROM:+0100
TZOFFSETTO:+0200
TZNAME:CEST
DTSTART:20260329T010000
END:DAYLIGHT
BEGIN:STANDARD
TZOFFSETFROM:+0200
TZOFFSETTO:+0100
TZNAME:CET
DTSTART:20261025T010000
END:STANDARD
END:VTIMEZONE
BEGIN:VEVENT
DTSTART;TZID=Europe/Copenhagen:20260425T200000
DTEND;TZID=Europe/Copenhagen:20260425T210000
DTSTAMP:20260420T074652
CREATED:20260330T103019Z
LAST-MODIFIED:20260402T115116Z
UID:1880-1777147200-1777150800@henningchristiansenarkiv.dk
SUMMARY:SOUND OF MIND AND BODY 
DESCRIPTION:Konsert  \n\n\n\nGordon Monahan and Bill Coleman  \n\n\n\n44MØEN  \n\n\n\nAskeby  \n\n\n\nFESTUM FLUXORUM 1962-2026  \n\n\n\nFestum Fluxorum var arrangeret for første gang i Nikolaj Kirke i 1962 i København.  \n\n\n\nHenning Christiansen (1932-2008) var en dansk komponist\, der boede på Møn fra 1970 til sin død i 2008. Som en del af den internationale kunstbevægelse FLUXUS\, var han også en af arrangørerne af Festum Fluxorum.  \n\n\n\nI 2026\, laver Henning Christiansen Arkiv et nyt Festum Fluxorum her på Møn med kunstnere som er stærkt inspireret af FLUXUS. Vi åbner Festum Fluxorum ‘26 med koncert\, fredag den 24.april kl. 20.00 og ønsker velkommen til udstillingsåbningen lørdag den 25.april kl.14. -17.00.Vi afslutter med koncert på lørdag den 25. Kl.20.00. Udstillingen i Arkivet varer til udgangen af August.  \n\n\n\nGordon Monahans værker for klaver\, højttalere\, video\, kinetisk skulptur og computerstyrede lydmiljøer spænder over forskellige genrer\, lige fra avantgarde\, koncertmusik til multimedie installationer og lydkunst. Som komponist og lydkunstner sammenstiller han de kvantitative og kvalitative aspekter af naturlige akustiske fænomener med elementer fra medieteknologi\, naturlige miljøer\, arkitektur\, populærkultur og liveoptrædener.  \n\n\n\nhttps://gordonmonahan.com/ \n\n\n\nBill Coleman har danset med Bill T Jones/Arnie Zane Company\, Martha Graham Dance Company\, Toronto Dance Theatre\, Tere O’Connor\, Fondation Jean-Pierre Perreault\, Wiesbaden Ballet og William Douglas Danse. Han samarbejder regelmæssigt med forskellige grupper og fællesskaber om at skabe unikke teaterarrangementer. Han er medstifter af Bill Coleman & His North American Experience og Coleman/Lemieux & Compagnie.  \n\n\n\nhttps://www.bill-coleman.com/ \n\n\n\nKoncerten SOUND OF MIND AND BODY er et samarbejde mellem Bill Coleman og Gordon Monahan som bruger menneske-til-computer hjernebølge-interface til at manipulere og producere musik\, lyd og belysning i realtid\, integreret med dans\, kropsoptræden og slapstick. Alle de lyde\, du vil høre i denne forestilling\, er resultatet af enten direkte lydforstærkning af hjernebølger eller af instrumenter\, der manipuleres af hjernebølge-styret software i realtid.  \n\n\n\nSOUND OF MIND AND BODY (Trailer) – YouTube  \n\n\n\nhttps://www.youtube.com/shorts/H1EDOc_2SPU \n\n\n\nKoncert billetter koster 120\,- \n\n\n\nBiller købes her: \n\n\n\nBillett salg den 25.April Link til Billetto  \n\n\n\nDet anbefales og køber på forhånd pga pladsbegrænsning.  \n\n\n\nEventet er støttet af Vordingborg Kommune\, Art Music Denmark\, Dansk Komponist Forening\, Knud Højgaards Fond\, Aage og Johanne Louis-Hansen Fond  \n\n\n\nMere om organisatoren Foreningen Henning Christiansen Arkiv på Facebook \n\n\n\nhttps://www.facebook.com/HenningChristiansenArchive \n\n\n\nMere om Foreningen Henning Christiansen Arkiv udgivelser på Bandcamp: \n\n\n\nhttps://henningchristiansen.bandcamp.com/
URL:https://henningchristiansenarkiv.dk/begivenhed/sound-of-mind-and-body-2/
END:VEVENT
END:VCALENDAR